BEGIN:VCALENDAR
VERSION:2.0
PRODID:-//Greensboro Housing Coalition - ECPv6.15.17.1//NONSGML v1.0//EN
CALSCALE:GREGORIAN
METHOD:PUBLISH
X-WR-CALNAME:Greensboro Housing Coalition
X-ORIGINAL-URL:https://greensborohousingcoalition.org
X-WR-CALDESC:Events for Greensboro Housing Coalition
REFRESH-INTERVAL;VALUE=DURATION:PT1H
X-Robots-Tag:noindex
X-PUBLISHED-TTL:PT1H
BEGIN:VTIMEZONE
TZID:America/New_York
BEGIN:DAYLIGHT
TZOFFSETFROM:-0500
TZOFFSETTO:-0400
TZNAME:EDT
DTSTART:20240310T070000
END:DAYLIGHT
BEGIN:STANDARD
TZOFFSETFROM:-0400
TZOFFSETTO:-0500
TZNAME:EST
DTSTART:20241103T060000
END:STANDARD
BEGIN:DAYLIGHT
TZOFFSETFROM:-0500
TZOFFSETTO:-0400
TZNAME:EDT
DTSTART:20250309T070000
END:DAYLIGHT
BEGIN:STANDARD
TZOFFSETFROM:-0400
TZOFFSETTO:-0500
TZNAME:EST
DTSTART:20251102T060000
END:STANDARD
BEGIN:DAYLIGHT
TZOFFSETFROM:-0500
TZOFFSETTO:-0400
TZNAME:EDT
DTSTART:20260308T070000
END:DAYLIGHT
BEGIN:STANDARD
TZOFFSETFROM:-0400
TZOFFSETTO:-0500
TZNAME:EST
DTSTART:20261101T060000
END:STANDARD
END:VTIMEZONE
BEGIN:VEVENT
DTSTART;TZID=America/New_York:20251230T180000
DTEND;TZID=America/New_York:20251230T200000
DTSTAMP:20260423T093423
CREATED:20251229T234018Z
LAST-MODIFIED:20251229T234124Z
UID:5868-1767117600-1767124800@greensborohousingcoalition.org
SUMMARY:"The District" Community Meeting
DESCRIPTION:The Greensboro Housing Coalition will meet with displaced residents on Tuesday evening to share additional details on relief efforts. The meetings will be at 8 am and 6 pm at The Wyndham Garden Inn\, 415 South Swing Road\, in the Jamestown Room.
URL:https://greensborohousingcoalition.org/event/the-district-community-meeting-2/
LOCATION:The Wyndham Garden Inn\, 415 South Swing Rd\, Greensboro\, North Carolina\, 27409\, United States
ATTACH;FMTTYPE=image/webp:https://greensborohousingcoalition.org/wp-content/uploads/2025/12/DOM-Exterior-and-pool-STG.webp
ORGANIZER;CN="Greensboro Housing Coalition":MAILTO:info@gsohc.org
END:VEVENT
BEGIN:VEVENT
DTSTART;TZID=America/New_York:20251230T080000
DTEND;TZID=America/New_York:20251230T100000
DTSTAMP:20260423T093423
CREATED:20251229T233717Z
LAST-MODIFIED:20251229T234430Z
UID:5862-1767081600-1767088800@greensborohousingcoalition.org
SUMMARY:"The District" Community Meeting
DESCRIPTION:The Greensboro Housing Coalition will meet with displaced residents on Tuesday morning to share additional details on relief efforts. The meetings will be at 8 am and 6 pm at The Wyndham Garden Inn\, 415 South Swing Road\, in the Jamestown Room.
URL:https://greensborohousingcoalition.org/event/the-district-community-meeting/
LOCATION:The Wyndham Garden Inn\, 415 South Swing Rd\, Greensboro\, North Carolina\, 27409\, United States
ATTACH;FMTTYPE=image/webp:https://greensborohousingcoalition.org/wp-content/uploads/2025/12/DOM-Exterior-and-pool-STG.webp
ORGANIZER;CN="Greensboro Housing Coalition":MAILTO:info@gsohc.org
END:VEVENT
BEGIN:VEVENT
DTSTART;TZID=America/New_York:20251218T143000
DTEND;TZID=America/New_York:20251218T153000
DTSTAMP:20260423T093423
CREATED:20250610T215029Z
LAST-MODIFIED:20250610T215031Z
UID:5697-1766068200-1766071800@greensborohousingcoalition.org
SUMMARY:Mobile Market Distribution
DESCRIPTION:
URL:https://greensborohousingcoalition.org/event/mobile-market-distribution-7/
LOCATION:City of Greensboro – Mobile Market\, 2523 Phillips Ave\, Greensboro\, North Carolina\, 27405\, United States
ATTACH;FMTTYPE=image/webp:https://greensborohousingcoalition.org/wp-content/uploads/2025/06/AdobeStock_275665502-scaled.webp
END:VEVENT
BEGIN:VEVENT
DTSTART;TZID=America/New_York:20251120T143000
DTEND;TZID=America/New_York:20251120T153000
DTSTAMP:20260423T093423
CREATED:20250610T190247Z
LAST-MODIFIED:20250610T190248Z
UID:5695-1763649000-1763652600@greensborohousingcoalition.org
SUMMARY:Mobile Market Distribution
DESCRIPTION:
URL:https://greensborohousingcoalition.org/event/mobile-market-distribution-6/
LOCATION:City of Greensboro – Mobile Market\, 2523 Phillips Ave\, Greensboro\, North Carolina\, 27405\, United States
ATTACH;FMTTYPE=image/webp:https://greensborohousingcoalition.org/wp-content/uploads/2025/06/AdobeStock_275665502-scaled.webp
END:VEVENT
BEGIN:VEVENT
DTSTART;TZID=America/New_York:20251109T080000
DTEND;TZID=America/New_York:20251109T170000
DTSTAMP:20260423T093423
CREATED:20250505T180331Z
LAST-MODIFIED:20250610T184330Z
UID:4587-1762675200-1762707600@greensborohousingcoalition.org
SUMMARY:There is No Place Like Home
DESCRIPTION:
URL:https://greensborohousingcoalition.org/event/there-is-no-place-like-home/
LOCATION:Carolina Theatre of Greensboro\, 310 S Greene St\, Greensboro\, NC\, 27401\, United States
ATTACH;FMTTYPE=image/webp:https://greensborohousingcoalition.org/wp-content/uploads/2024/11/IMG_0743_2-scaled.webp
ORGANIZER;CN="Greensboro Housing Coalition":MAILTO:info@gsohc.org
END:VEVENT
BEGIN:VEVENT
DTSTART;TZID=America/New_York:20251016T143000
DTEND;TZID=America/New_York:20251016T153000
DTSTAMP:20260423T093423
CREATED:20250610T190037Z
LAST-MODIFIED:20250610T190038Z
UID:5693-1760625000-1760628600@greensborohousingcoalition.org
SUMMARY:Mobile Market Distribution
DESCRIPTION:
URL:https://greensborohousingcoalition.org/event/mobile-market-distribution-5/
LOCATION:City of Greensboro – Mobile Market\, 2523 Phillips Ave\, Greensboro\, North Carolina\, 27405\, United States
ATTACH;FMTTYPE=image/webp:https://greensborohousingcoalition.org/wp-content/uploads/2025/06/AdobeStock_275665502-scaled.webp
END:VEVENT
BEGIN:VEVENT
DTSTART;TZID=America/New_York:20251016T100000
DTEND;TZID=America/New_York:20251016T140000
DTSTAMP:20260423T093423
CREATED:20250505T132126Z
LAST-MODIFIED:20250819T162709Z
UID:4535-1760608800-1760623200@greensborohousingcoalition.org
SUMMARY:2025 Housing Summit: Advocacy in Action
DESCRIPTION:Join the Greensboro Housing Coalition for our flagship annual event\, the 2025 Housing Summit: Advocacy in Action\, presented by Leslie Dunne Ketner & Robert C. Ketner. \n\n\n\nThis is more than just a conference; it’s an immersive experience designed to unite community members\, leaders\, and advocates to forge a path toward a more equitable housing future for Greensboro. This year’s summit is dedicated to moving beyond conversation and putting advocacy into action. \n\n\n\nWhat to Expect: \n\n\n\n\nImmersive Simulation: Participate in a powerful\, hands-on simulation that provides a deeper understanding of the barriers and challenges faced by our neighbors in securing stable housing.\n\n\n\nInspiring Leadership Panel: Hear from a panel of experienced leaders and advocates who are on the front lines of housing policy\, community engagement\, and environmental justice. Gain insights\, ask questions\, and learn about the innovative solutions shaping our community.\n\n\n\nNetworking & Collaboration: Connect with fellow advocates\, community partners\, and local leaders over a networking lunch. This is your opportunity to build relationships\, share ideas\, and strengthen our collective movement for housing security.\n\n\n\n\nTogether\, we will break down barriers\, amplify the voices of those most affected by the housing crisis\, and collaboratively shape the future of housing in our city. Don’t miss this opportunity to be part of the solution. \n\n\n\nEvent Details: \n\n\n\n\nDate: Thursday\, October 16\, 2025\n\n\n\nTime: 10:00 AM – 2:00 PM EDT\n\n\n\nLocation: The Terrace at the Greensboro Coliseum Complex\, 1921 West Gate City Boulevard\, Greensboro\, NC 27403\n\n\n\n\nTickets are now available. Secure your spot today and join us in putting advocacy into action! \n\n\n\nClick Here to Register and Learn More on Eventbrite
URL:https://greensborohousingcoalition.org/event/2025-housing-summit/
LOCATION:The Terrace at the Greensboro Coliseum Complex\, 1921 West Gate City Blvd\, Greensboro\, North Carolina\, 27403\, United States
ATTACH;FMTTYPE=image/jpeg:https://greensborohousingcoalition.org/wp-content/uploads/2025/05/IMG_8798-scaled.jpg
ORGANIZER;CN="Greensboro Housing Coalition":MAILTO:info@gsohc.org
END:VEVENT
BEGIN:VEVENT
DTSTART;TZID=America/New_York:20250918T143000
DTEND;TZID=America/New_York:20250918T153000
DTSTAMP:20260423T093423
CREATED:20250610T185731Z
LAST-MODIFIED:20250610T185732Z
UID:5691-1758205800-1758209400@greensborohousingcoalition.org
SUMMARY:Mobile Market Distribution
DESCRIPTION:
URL:https://greensborohousingcoalition.org/event/mobile-market-distribution-4/
LOCATION:City of Greensboro – Mobile Market\, 2523 Phillips Ave\, Greensboro\, North Carolina\, 27405\, United States
ATTACH;FMTTYPE=image/webp:https://greensborohousingcoalition.org/wp-content/uploads/2025/06/AdobeStock_275665502-scaled.webp
END:VEVENT
BEGIN:VEVENT
DTSTART;TZID=America/New_York:20250912T090000
DTEND;TZID=America/New_York:20250912T140000
DTSTAMP:20260423T093423
CREATED:20250729T193351Z
LAST-MODIFIED:20250729T193353Z
UID:5785-1757667600-1757685600@greensborohousingcoalition.org
SUMMARY:Triad Stand Down
DESCRIPTION:
URL:https://greensborohousingcoalition.org/event/triad-stand-down/
LOCATION:Providence Baptist Church\, 1106 Tuscaloosa St\, Greensboro\, North Carolina\, 27406\, United States
ATTACH;FMTTYPE=image/jpeg:https://greensborohousingcoalition.org/wp-content/uploads/2025/07/AdobeStock_131256432-scaled.jpeg
END:VEVENT
BEGIN:VEVENT
DTSTART;TZID=America/New_York:20250821T143000
DTEND;TZID=America/New_York:20250821T153000
DTSTAMP:20260423T093423
CREATED:20250610T185243Z
LAST-MODIFIED:20250610T185245Z
UID:5689-1755786600-1755790200@greensborohousingcoalition.org
SUMMARY:Mobile Market Distribution
DESCRIPTION:
URL:https://greensborohousingcoalition.org/event/mobile-market-distribution-3/
LOCATION:City of Greensboro – Mobile Market\, 2523 Phillips Ave\, Greensboro\, North Carolina\, 27405\, United States
ATTACH;FMTTYPE=image/webp:https://greensborohousingcoalition.org/wp-content/uploads/2025/06/AdobeStock_275665502-scaled.webp
END:VEVENT
BEGIN:VEVENT
DTSTART;TZID=America/New_York:20250814T080000
DTEND;TZID=America/New_York:20250814T170000
DTSTAMP:20260423T093423
CREATED:20250529T175158Z
LAST-MODIFIED:20250610T184153Z
UID:5645-1755158400-1755190800@greensborohousingcoalition.org
SUMMARY:GHC Advocacy/Speaker Series
DESCRIPTION:If your organization\, business\, civic\, social or faith group would like to learn more about the Greensboro Housing Coalition and its goal of making decent and affordable housing available to every citizen of Greensboro\, GHC is eager to accommodate you. \n\n\n\nSpeakers from within GHC and amongst our community will engage your group or community with insightful perspectives on housing in our community \n\n\n\nTopics may include: \n\n\n\n\n\n\n\nHomelessness in Greensboro\n\n\n\n\n\n\n\n\nAffordable Housing in Greensboro\n\n\n\n\n\n\n\n\nNon-housing resources available in our community\n\n\n\n\n\n\n\n\nTenant Rights & Resources: Renting in Greensboro\n\n\n\n\n\n\n\n\nEvictions and their impact on our community\n\n\n\n\n\n\n\n\nHealthy Homes Greensboro – collaboration to reduce unsafe\, unhealthy housing\n\n\n\n\n\n\n\n\nCollege student housing options and conditions\n\n\n\n\n\n\n\n\nFinancial Literacy classes\n\n\n\n\n\n\n\n\nAnd more…\n\n\n\n\n\n\n\nPlease call us at 336-691-9521 or email info@gsohc.org to schedule a program.
URL:https://greensborohousingcoalition.org/event/ghc-advocacy-speaker-series/
LOCATION:North Carolina
ATTACH;FMTTYPE=image/jpeg:https://greensborohousingcoalition.org/wp-content/uploads/2025/05/IMG_1766-scaled.jpg
ORGANIZER;CN="Greensboro Housing Coalition":MAILTO:info@gsohc.org
END:VEVENT
BEGIN:VEVENT
DTSTART;TZID=America/New_York:20250731T100000
DTEND;TZID=America/New_York:20250731T140000
DTSTAMP:20260423T093423
CREATED:20250729T194137Z
LAST-MODIFIED:20250729T194140Z
UID:5794-1753956000-1753970400@greensborohousingcoalition.org
SUMMARY:Serving Latinos Seminar
DESCRIPTION:
URL:https://greensborohousingcoalition.org/event/serving-latinos-seminar/
LOCATION:Wake Downtown Auditorium\, 455 Vine St\, Winston Salem\, North Carolina\, 27101\, United States
ATTACH;FMTTYPE=image/jpeg:https://greensborohousingcoalition.org/wp-content/uploads/2025/07/AdobeStock_514428852-scaled.jpeg
ORGANIZER;CN="FaithAction International":MAILTO:patricia@faithaction.org
END:VEVENT
BEGIN:VEVENT
DTSTART;VALUE=DATE:20250719
DTEND;VALUE=DATE:20250720
DTSTAMP:20260423T093423
CREATED:20250513T195227Z
LAST-MODIFIED:20250513T195227Z
UID:5322-1752883200-1752969599@greensborohousingcoalition.org
SUMMARY:LiveLife 2025 Wellness in The Park
DESCRIPTION:
URL:https://greensborohousingcoalition.org/event/livelife-2025-wellness-in-the-park/
LOCATION:Sternberger Park\, 715 Summit Ave\, Greensboro\, NC\, United States
ATTACH;FMTTYPE=image/webp:https://greensborohousingcoalition.org/wp-content/uploads/2025/05/AdobeStock_128028976.webp
END:VEVENT
BEGIN:VEVENT
DTSTART;TZID=America/New_York:20250717T143000
DTEND;TZID=America/New_York:20250717T153000
DTSTAMP:20260423T093423
CREATED:20250610T184753Z
LAST-MODIFIED:20250610T184754Z
UID:5686-1752762600-1752766200@greensborohousingcoalition.org
SUMMARY:Mobile Market Distribution
DESCRIPTION:
URL:https://greensborohousingcoalition.org/event/mobile-market-distribution-2/
LOCATION:City of Greensboro – Mobile Market\, 2523 Phillips Ave\, Greensboro\, North Carolina\, 27405\, United States
ATTACH;FMTTYPE=image/webp:https://greensborohousingcoalition.org/wp-content/uploads/2025/06/AdobeStock_275665502-scaled.webp
END:VEVENT
BEGIN:VEVENT
DTSTART;TZID=America/New_York:20250712T100000
DTEND;TZID=America/New_York:20250712T140000
DTSTAMP:20260423T093423
CREATED:20250610T221714Z
LAST-MODIFIED:20250610T221716Z
UID:5710-1752314400-1752328800@greensborohousingcoalition.org
SUMMARY:Ignite Your Impact
DESCRIPTION:
URL:https://greensborohousingcoalition.org/event/ignite-your-impact/
LOCATION:North Carolina
ATTACH;FMTTYPE=image/webp:https://greensborohousingcoalition.org/wp-content/uploads/2025/06/AdobeStock_307079470-scaled.webp
END:VEVENT
BEGIN:VEVENT
DTSTART;TZID=America/New_York:20250709T120000
DTEND;TZID=America/New_York:20250709T130000
DTSTAMP:20260423T093423
CREATED:20250610T220313Z
LAST-MODIFIED:20250610T220315Z
UID:5699-1752062400-1752066000@greensborohousingcoalition.org
SUMMARY:Resilient Guilford Network
DESCRIPTION:
URL:https://greensborohousingcoalition.org/event/resilient-guilford-network/
LOCATION:North Carolina
ATTACH;FMTTYPE=image/webp:https://greensborohousingcoalition.org/wp-content/uploads/2025/06/AdobeStock_253251085-scaled.webp
END:VEVENT
BEGIN:VEVENT
DTSTART;TZID=America/New_York:20250623T090000
DTEND;TZID=America/New_York:20250814T120000
DTSTAMP:20260423T093423
CREATED:20250729T201414Z
LAST-MODIFIED:20250729T201951Z
UID:5805-1750669200-1755172800@greensborohousingcoalition.org
SUMMARY:GCS Summer Meals
DESCRIPTION:
URL:https://greensborohousingcoalition.org/event/gcs-summer-meals/
LOCATION:North Carolina
ATTACH;FMTTYPE=image/jpeg:https://greensborohousingcoalition.org/wp-content/uploads/2025/07/AdobeStock_389706473-scaled.jpeg
END:VEVENT
BEGIN:VEVENT
DTSTART;TZID=America/New_York:20250620T080000
DTEND;TZID=America/New_York:20250922T170000
DTSTAMP:20260423T093423
CREATED:20250625T225831Z
LAST-MODIFIED:20250625T225958Z
UID:5741-1750406400-1758560400@greensborohousingcoalition.org
SUMMARY:Summer 2025 Cooling Stations
DESCRIPTION:The Guilford County Continuum of Care has compiled a list of cooling stations available throughout Guilford County for the summer of 2025. Cooling stations offer air conditioning to those who need a safe\, cool place to escape the heat. Residents are encouraged to share the list below.  \n\n\n\nPlease note that the availability of each center is subject to change. Please contact each center for additional information. \n\n\n\nGreensboro Stations\n\n\n\nInteractive Resource Center (IRC) \n\n\n\nAddress: 407 E Washington St\, Greensboro \n\n\n\nPhone: (336) 332-0824 \n\n\n\nHours: Monday through Friday\, 8 a.m. to 3 p.m. \n\n\n\n*The IRC will extend their hours Monday\, June 23 through Thursday\, June 26 from 8 a.m. to 6 p.m. \n\n\n\nOak Street Health \n\n\n\nAddress: 1007 Summit Ave\, Greensboro \n\n\n\nPhone: 336) 265-7585 \n\n\n\nHours: Monday through Friday\, 8 a.m. to 5 p.m. \n\n\n\nOak Street Health \n\n\n\nAddress: 3808 W Gate City Blvd A1\, Greensboro \n\n\n\nPhone: (336) 915-9247 \n\n\n\nHours: Monday through Friday\, 8 a.m. to 5 p.m. \n\n\n\nGlenwood Together \n\n\n\nAddress: 1310 Glenwood Ave\, Greensboro \n\n\n\nPhone: (336) 355-7309 \n\n\n\nHours: Tuesday\, Wednesday\, and Thursday from 12 to 5 p.m. \n\n\n\nGuilford County Social Services is onsite every Wednesday from 1 to 3 p.m.
URL:https://greensborohousingcoalition.org/event/summer-2025-cooling-stations/
LOCATION:North Carolina
ATTACH;FMTTYPE=image/webp:https://greensborohousingcoalition.org/wp-content/uploads/2025/06/AdobeStock_392741405-scaled.webp
END:VEVENT
BEGIN:VEVENT
DTSTART;TZID=America/New_York:20250619T143000
DTEND;TZID=America/New_York:20250619T153000
DTSTAMP:20260423T093423
CREATED:20250610T183710Z
LAST-MODIFIED:20250610T183925Z
UID:5676-1750343400-1750347000@greensborohousingcoalition.org
SUMMARY:Mobile Market Distribution
DESCRIPTION:
URL:https://greensborohousingcoalition.org/event/mobile-market-distribution/
LOCATION:City of Greensboro – Mobile Market\, 2523 Phillips Ave\, Greensboro\, North Carolina\, 27405\, United States
ATTACH;FMTTYPE=image/webp:https://greensborohousingcoalition.org/wp-content/uploads/2025/06/AdobeStock_275665502-scaled.webp
END:VEVENT
BEGIN:VEVENT
DTSTART;TZID=America/New_York:20250618T130000
DTEND;TZID=America/New_York:20250618T150000
DTSTAMP:20260423T093423
CREATED:20250610T221004Z
LAST-MODIFIED:20250610T221005Z
UID:5704-1750251600-1750258800@greensborohousingcoalition.org
SUMMARY:Growing America's Agricultural Enterprises & Small Businesses
DESCRIPTION:Sign up here: https://www.zoomgov.com/webinar/register/WN_QVTn0ZLbTmiVJFJau979Vw#/registration
URL:https://greensborohousingcoalition.org/event/growing-americas-agricultural-enterprises-small-businesses/
LOCATION:North Carolina
ATTACH;FMTTYPE=image/webp:https://greensborohousingcoalition.org/wp-content/uploads/2025/06/AdobeStock_295004353-scaled.webp
END:VEVENT
BEGIN:VEVENT
DTSTART;TZID=America/New_York:20250607T120000
DTEND;TZID=America/New_York:20250607T160000
DTSTAMP:20260423T093423
CREATED:20250513T193520Z
LAST-MODIFIED:20250513T194208Z
UID:5308-1749297600-1749312000@greensborohousingcoalition.org
SUMMARY:3rd Annual Intergenerational Friends & Culture Fest
DESCRIPTION:
URL:https://greensborohousingcoalition.org/event/5308/
LOCATION:Peeler Recreational Center\, 1300 Sykes Ave\, Greensboro\, NC\, United States
ATTACH;FMTTYPE=image/jpeg:https://greensborohousingcoalition.org/wp-content/uploads/2025/05/AdobeStock_303842337-scaled.jpeg
END:VEVENT
BEGIN:VEVENT
DTSTART;TZID=America/New_York:20250521T160000
DTEND;TZID=America/New_York:20250521T200000
DTSTAMP:20260423T093423
CREATED:20250513T200830Z
LAST-MODIFIED:20250513T200855Z
UID:5337-1747843200-1747857600@greensborohousingcoalition.org
SUMMARY:Senior Movie Night & Healthy Happy Hour
DESCRIPTION:
URL:https://greensborohousingcoalition.org/event/senior-movie-night-healthy-happy-hour/
LOCATION:McGirt-Horton Library\, 2501 Phillips Ave\, Greensboro\, NC\, United States
ATTACH;FMTTYPE=image/webp:https://greensborohousingcoalition.org/wp-content/uploads/2025/05/AdobeStock_394189578-scaled.webp
END:VEVENT
BEGIN:VEVENT
DTSTART;TZID=America/New_York:20250518T160000
DTEND;TZID=America/New_York:20250518T180000
DTSTAMP:20260423T093423
CREATED:20250513T192053Z
LAST-MODIFIED:20250513T192053Z
UID:5300-1747584000-1747591200@greensborohousingcoalition.org
SUMMARY:Celebrate Us! Festival and Health Expo
DESCRIPTION:
URL:https://greensborohousingcoalition.org/event/celebrate-us-festival-and-health-expo/
LOCATION:Twist Lounge\, 435-M Dolley Madison Rd.\, Greensboro\, NC\, United States
ATTACH;FMTTYPE=image/jpeg:https://greensborohousingcoalition.org/wp-content/uploads/2025/05/AdobeStock_464016383-scaled.jpeg
END:VEVENT
BEGIN:VEVENT
DTSTART;TZID=America/New_York:20250518T150000
DTEND;TZID=America/New_York:20250518T190000
DTSTAMP:20260423T093423
CREATED:20250513T184657Z
LAST-MODIFIED:20250513T185436Z
UID:5291-1747580400-1747594800@greensborohousingcoalition.org
SUMMARY:Healthy Kids Running Series
DESCRIPTION:
URL:https://greensborohousingcoalition.org/event/healthy-kids-running-series/
LOCATION:Summerfield Elementary School\, 7501 Summerfield Rd.\, Summerfield\, NC\, 27358\, United States
ATTACH;FMTTYPE=image/jpeg:https://greensborohousingcoalition.org/wp-content/uploads/2025/05/AdobeStock_282792569-scaled.jpeg
ORGANIZER;CN="Healthy Kids Running Series":MAILTO:summerfieldnc@healthykidsrs.org
END:VEVENT
BEGIN:VEVENT
DTSTART;TZID=America/New_York:20250517T120000
DTEND;TZID=America/New_York:20250517T133000
DTSTAMP:20260423T093423
CREATED:20250513T201126Z
LAST-MODIFIED:20250513T202008Z
UID:5343-1747483200-1747488600@greensborohousingcoalition.org
SUMMARY:Line Dance Class
DESCRIPTION:
URL:https://greensborohousingcoalition.org/event/line-dance-class/
LOCATION:Fantasy Event Center & Event Services\, 2523 Phillips Ave Unit C\, Greensboro\, NC\, 27405\, United States
ATTACH;FMTTYPE=image/webp:https://greensborohousingcoalition.org/wp-content/uploads/2025/05/AdobeStock_454065937.webp
END:VEVENT
BEGIN:VEVENT
DTSTART;VALUE=DATE:20250501
DTEND;VALUE=DATE:20250601
DTSTAMP:20260423T093423
CREATED:20250513T195925Z
LAST-MODIFIED:20250513T195925Z
UID:5331-1746057600-1748735999@greensborohousingcoalition.org
SUMMARY:A.H.O.Y Schedule - May 2025
DESCRIPTION:
URL:https://greensborohousingcoalition.org/event/a-h-o-y-schedule-may-2025/
LOCATION:Greensboro Parks & Recreation\, Greensboro\, NC\, United States
ATTACH;FMTTYPE=image/webp:https://greensborohousingcoalition.org/wp-content/uploads/2025/05/AdobeStock_485415758-scaled.webp
END:VEVENT
END:VCALENDAR